BEGIN:VCALENDAR
VERSION:2.0
PRODID:-//eventon.com NONSGML v1.0//EN
CALSCALE:GREGORIAN
METHOD:PUBLISH
BEGIN:VEVENT
UID:69e738e948290
DTSTAMP:20260421T084425Z
DTSTART:20260401T170000Z
DTEND:20260401T180000Z
LOCATION:
SUMMARY:JARDIN BOTANIQUE - ELZÃ‰AR LE PUSTULEUX (Atelier)
DESCRIPTION:Lâ€™atelier commence par le conte dâ€™ElzÃ©ar : dans un village
  qui rejette tout ce qui est Â« laid Â»\,  un garÃ§on couvert de pustules t
 rouve enfin un endroit oÃ¹ il est accueilli tel quâ€™il estâ€¦ dans la forÃ
 ªt\,  avec ses arbres tordus et ses mousses en bataille. Vous Ã©coutez avec
 [..]\nhttps://contesvivants.ca/evenements/jardin-botanique-elzear-le-pustul
 eux-atelier/
URL:https://contesvivants.ca/evenements/jardin-botanique-elzear-le-pustuleux-atelier/
END:VEVENT
END:VCALENDAR